BEGIN:VCALENDAR
VERSION:2.0
PRODID:-//DIS Dads Club - ECPv6.2.0.1//NONSGML v1.0//EN
CALSCALE:GREGORIAN
METHOD:PUBLISH
X-ORIGINAL-URL:https://disdc.org
X-WR-CALDESC:Events for DIS Dads Club
REFRESH-INTERVAL;VALUE=DURATION:PT1H
X-Robots-Tag:noindex
X-PUBLISHED-TTL:PT1H
BEGIN:VTIMEZONE
TZID:America/New_York
BEGIN:DAYLIGHT
TZOFFSETFROM:-0500
TZOFFSETTO:-0400
TZNAME:EDT
DTSTART:20300310T070000
END:DAYLIGHT
BEGIN:STANDARD
TZOFFSETFROM:-0400
TZOFFSETTO:-0500
TZNAME:EST
DTSTART:20301103T060000
END:STANDARD
END:VTIMEZONE
BEGIN:VEVENT
DTSTART;TZID=America/New_York:20301103T080000
DTEND;TZID=America/New_York:20301103T170000
DTSTAMP:20260420T132337
CREATED:20230823T191519Z
LAST-MODIFIED:20230905T222939Z
UID:10000409-1919923200-1919955600@disdc.org
SUMMARY:Dad's Club Sunday Soccer
DESCRIPTION:Click here to join the Soccer Dads/Moms/Boys DIS WhatsApp Group for all the details of our weekly Sunday soccer sessions!
URL:https://disdc.org/calendar/sunday-soccer/2030-11-03/
CATEGORIES:Dad's Club
END:VEVENT
BEGIN:VEVENT
DTSTART;TZID=America/New_York:20301110T080000
DTEND;TZID=America/New_York:20301110T170000
DTSTAMP:20260420T132337
CREATED:20230823T191519Z
LAST-MODIFIED:20230905T222939Z
UID:10000410-1920528000-1920560400@disdc.org
SUMMARY:Dad's Club Sunday Soccer
DESCRIPTION:Click here to join the Soccer Dads/Moms/Boys DIS WhatsApp Group for all the details of our weekly Sunday soccer sessions!
URL:https://disdc.org/calendar/sunday-soccer/2030-11-10/
CATEGORIES:Dad's Club
END:VEVENT
BEGIN:VEVENT
DTSTART;TZID=America/New_York:20301117T080000
DTEND;TZID=America/New_York:20301117T170000
DTSTAMP:20260420T132337
CREATED:20230823T191519Z
LAST-MODIFIED:20230905T222939Z
UID:10000411-1921132800-1921165200@disdc.org
SUMMARY:Dad's Club Sunday Soccer
DESCRIPTION:Click here to join the Soccer Dads/Moms/Boys DIS WhatsApp Group for all the details of our weekly Sunday soccer sessions!
URL:https://disdc.org/calendar/sunday-soccer/2030-11-17/
CATEGORIES:Dad's Club
END:VEVENT
BEGIN:VEVENT
DTSTART;TZID=America/New_York:20301124T080000
DTEND;TZID=America/New_York:20301124T170000
DTSTAMP:20260420T132337
CREATED:20230823T191519Z
LAST-MODIFIED:20230905T222939Z
UID:10000412-1921737600-1921770000@disdc.org
SUMMARY:Dad's Club Sunday Soccer
DESCRIPTION:Click here to join the Soccer Dads/Moms/Boys DIS WhatsApp Group for all the details of our weekly Sunday soccer sessions!
URL:https://disdc.org/calendar/sunday-soccer/2030-11-24/
CATEGORIES:Dad's Club
END:VEVENT
END:VCALENDAR