BEGIN:VCALENDAR
VERSION:2.0
PRODID:-//DIS Dads Club - ECPv6.2.0.1//NONSGML v1.0//EN
CALSCALE:GREGORIAN
METHOD:PUBLISH
X-ORIGINAL-URL:https://disdc.org
X-WR-CALDESC:Events for DIS Dads Club
REFRESH-INTERVAL;VALUE=DURATION:PT1H
X-Robots-Tag:noindex
X-PUBLISHED-TTL:PT1H
BEGIN:VTIMEZONE
TZID:America/New_York
BEGIN:DAYLIGHT
TZOFFSETFROM:-0500
TZOFFSETTO:-0400
TZNAME:EDT
DTSTART:20300310T070000
END:DAYLIGHT
BEGIN:STANDARD
TZOFFSETFROM:-0400
TZOFFSETTO:-0500
TZNAME:EST
DTSTART:20301103T060000
END:STANDARD
END:VTIMEZONE
BEGIN:VEVENT
DTSTART;TZID=America/New_York:20300303T080000
DTEND;TZID=America/New_York:20300303T170000
DTSTAMP:20260420T015944
CREATED:20230823T191519Z
LAST-MODIFIED:20230905T222939Z
UID:10000374-1898755200-1898787600@disdc.org
SUMMARY:Dad's Club Sunday Soccer
DESCRIPTION:Click here to join the Soccer Dads/Moms/Boys DIS WhatsApp Group for all the details of our weekly Sunday soccer sessions!
URL:https://disdc.org/calendar/sunday-soccer/2030-03-03/
CATEGORIES:Dad's Club
END:VEVENT
BEGIN:VEVENT
DTSTART;TZID=America/New_York:20300310T080000
DTEND;TZID=America/New_York:20300310T170000
DTSTAMP:20260420T015944
CREATED:20230823T191519Z
LAST-MODIFIED:20230905T222939Z
UID:10000375-1899360000-1899392400@disdc.org
SUMMARY:Dad's Club Sunday Soccer
DESCRIPTION:Click here to join the Soccer Dads/Moms/Boys DIS WhatsApp Group for all the details of our weekly Sunday soccer sessions!
URL:https://disdc.org/calendar/sunday-soccer/2030-03-10/
CATEGORIES:Dad's Club
END:VEVENT
BEGIN:VEVENT
DTSTART;TZID=America/New_York:20300317T080000
DTEND;TZID=America/New_York:20300317T170000
DTSTAMP:20260420T015944
CREATED:20230823T191519Z
LAST-MODIFIED:20230905T222939Z
UID:10000376-1899964800-1899997200@disdc.org
SUMMARY:Dad's Club Sunday Soccer
DESCRIPTION:Click here to join the Soccer Dads/Moms/Boys DIS WhatsApp Group for all the details of our weekly Sunday soccer sessions!
URL:https://disdc.org/calendar/sunday-soccer/2030-03-17/
CATEGORIES:Dad's Club
END:VEVENT
BEGIN:VEVENT
DTSTART;TZID=America/New_York:20300324T080000
DTEND;TZID=America/New_York:20300324T170000
DTSTAMP:20260420T015944
CREATED:20230823T191519Z
LAST-MODIFIED:20230905T222939Z
UID:10000377-1900569600-1900602000@disdc.org
SUMMARY:Dad's Club Sunday Soccer
DESCRIPTION:Click here to join the Soccer Dads/Moms/Boys DIS WhatsApp Group for all the details of our weekly Sunday soccer sessions!
URL:https://disdc.org/calendar/sunday-soccer/2030-03-24/
CATEGORIES:Dad's Club
END:VEVENT
BEGIN:VEVENT
DTSTART;TZID=America/New_York:20300331T080000
DTEND;TZID=America/New_York:20300331T170000
DTSTAMP:20260420T015944
CREATED:20230823T191519Z
LAST-MODIFIED:20230905T222939Z
UID:10000378-1901174400-1901206800@disdc.org
SUMMARY:Dad's Club Sunday Soccer
DESCRIPTION:Click here to join the Soccer Dads/Moms/Boys DIS WhatsApp Group for all the details of our weekly Sunday soccer sessions!
URL:https://disdc.org/calendar/sunday-soccer/2030-03-31/
CATEGORIES:Dad's Club
END:VEVENT
END:VCALENDAR