BEGIN:VCALENDAR
VERSION:2.0
PRODID:-//DIS Dads Club - ECPv6.2.0.1//NONSGML v1.0//EN
CALSCALE:GREGORIAN
METHOD:PUBLISH
X-ORIGINAL-URL:https://disdc.org
X-WR-CALDESC:Events for DIS Dads Club
REFRESH-INTERVAL;VALUE=DURATION:PT1H
X-Robots-Tag:noindex
X-PUBLISHED-TTL:PT1H
BEGIN:VTIMEZONE
TZID:America/New_York
BEGIN:DAYLIGHT
TZOFFSETFROM:-0500
TZOFFSETTO:-0400
TZNAME:EDT
DTSTART:20290311T070000
END:DAYLIGHT
BEGIN:STANDARD
TZOFFSETFROM:-0400
TZOFFSETTO:-0500
TZNAME:EST
DTSTART:20291104T060000
END:STANDARD
END:VTIMEZONE
BEGIN:VEVENT
DTSTART;TZID=America/New_York:20290304T080000
DTEND;TZID=America/New_York:20290304T170000
DTSTAMP:20260419T083023
CREATED:20230823T191519Z
LAST-MODIFIED:20230905T222939Z
UID:10000319-1867305600-1867338000@disdc.org
SUMMARY:Dad's Club Sunday Soccer
DESCRIPTION:Click here to join the Soccer Dads/Moms/Boys DIS WhatsApp Group for all the details of our weekly Sunday soccer sessions!
URL:https://disdc.org/calendar/sunday-soccer/2029-03-04/
CATEGORIES:Dad's Club
END:VEVENT
BEGIN:VEVENT
DTSTART;TZID=America/New_York:20290311T080000
DTEND;TZID=America/New_York:20290311T170000
DTSTAMP:20260419T083023
CREATED:20230823T191519Z
LAST-MODIFIED:20230905T222939Z
UID:10000320-1867910400-1867942800@disdc.org
SUMMARY:Dad's Club Sunday Soccer
DESCRIPTION:Click here to join the Soccer Dads/Moms/Boys DIS WhatsApp Group for all the details of our weekly Sunday soccer sessions!
URL:https://disdc.org/calendar/sunday-soccer/2029-03-11/
CATEGORIES:Dad's Club
END:VEVENT
BEGIN:VEVENT
DTSTART;TZID=America/New_York:20290318T080000
DTEND;TZID=America/New_York:20290318T170000
DTSTAMP:20260419T083023
CREATED:20230823T191519Z
LAST-MODIFIED:20230905T222939Z
UID:10000321-1868515200-1868547600@disdc.org
SUMMARY:Dad's Club Sunday Soccer
DESCRIPTION:Click here to join the Soccer Dads/Moms/Boys DIS WhatsApp Group for all the details of our weekly Sunday soccer sessions!
URL:https://disdc.org/calendar/sunday-soccer/2029-03-18/
CATEGORIES:Dad's Club
END:VEVENT
BEGIN:VEVENT
DTSTART;TZID=America/New_York:20290325T080000
DTEND;TZID=America/New_York:20290325T170000
DTSTAMP:20260419T083023
CREATED:20230823T191519Z
LAST-MODIFIED:20230905T222939Z
UID:10000322-1869120000-1869152400@disdc.org
SUMMARY:Dad's Club Sunday Soccer
DESCRIPTION:Click here to join the Soccer Dads/Moms/Boys DIS WhatsApp Group for all the details of our weekly Sunday soccer sessions!
URL:https://disdc.org/calendar/sunday-soccer/2029-03-25/
CATEGORIES:Dad's Club
END:VEVENT
END:VCALENDAR